Package: KinSwingR Version: 1.27.0 Command: /Library/Frameworks/R.framework/Resources/bin/R CMD build --keep-empty-dirs --no-resave-data KinSwingR StartedAt: 2025-10-26 16:59:27 -0400 (Sun, 26 Oct 2025) EndedAt: 2025-10-26 16:59:38 -0400 (Sun, 26 Oct 2025) EllapsedTime: 11.1 seconds RetCode: 0 Status: OK PackageFile: KinSwingR_1.27.0.tar.gz PackageFileSize: 649.9 KiB