Package: KinSwingR Version: 1.27.0 Command: rm -rf KinSwingR.buildbin-libdir && mkdir KinSwingR.buildbin-libdir && /Users/biocbuild/BBS/utils/build-universal.sh KinSwingR_1.27.0.tar.gz /Library/Frameworks/R.framework/Resources/bin/R KinSwingR.buildbin-libdir StartedAt: 2025-10-26 22:39:25 -0400 (Sun, 26 Oct 2025) EndedAt: 2025-10-26 22:39:29 -0400 (Sun, 26 Oct 2025) EllapsedTime: 3.1 seconds RetCode: 0 Status: OK PackageFile: KinSwingR_1.27.0.tgz PackageFileSize: 696.6 KiB