Package: KEGGgraph Version: 1.69.0 Command: /home/biocbuild/bbs-3.22-bioc/R/bin/R CMD INSTALL KEGGgraph StartedAt: 2025-10-24 15:25:29 -0400 (Fri, 24 Oct 2025) EndedAt: 2025-10-24 15:25:35 -0400 (Fri, 24 Oct 2025) EllapsedTime: 5.7 seconds RetCode: 0 Status: OK