Package: KEGGgraph Version: 1.70.0 Command: /Library/Frameworks/R.framework/Resources/bin/R CMD build --keep-empty-dirs --no-resave-data KEGGgraph StartedAt: 2025-11-10 16:49:59 -0500 (Mon, 10 Nov 2025) EndedAt: 2025-11-10 16:50:25 -0500 (Mon, 10 Nov 2025) EllapsedTime: 26.3 seconds RetCode: 0 Status: OK PackageFile: KEGGgraph_1.70.0.tar.gz PackageFileSize: 1.315 MiB