Package: KEGGREST Version: 1.49.2 Command: /home/biocbuild/bbs-3.22-bioc/R/bin/R CMD build --keep-empty-dirs --no-resave-data --md5 KEGGREST StartedAt: 2025-10-24 18:30:26 -0400 (Fri, 24 Oct 2025) EndedAt: 2025-10-24 18:31:00 -0400 (Fri, 24 Oct 2025) EllapsedTime: 34.0 seconds RetCode: 0 Status: OK PackageFile: KEGGREST_1.49.2.tar.gz PackageFileSize: 234.1 KiB