Package: KBoost Version: 1.17.0 Command: /home/biocbuild/bbs-3.22-bioc/R/bin/R CMD build --keep-empty-dirs --no-resave-data --md5 KBoost StartedAt: 2025-10-24 18:29:36 -0400 (Fri, 24 Oct 2025) EndedAt: 2025-10-24 18:29:43 -0400 (Fri, 24 Oct 2025) EllapsedTime: 7.0 seconds RetCode: 0 Status: OK PackageFile: KBoost_1.17.0.tar.gz PackageFileSize: 506.3 KiB