Package: IsoformSwitchAnalyzeR Version: 2.9.1 Command: /home/biocbuild/R/R/bin/R CMD INSTALL IsoformSwitchAnalyzeR StartedAt: 2025-10-23 21:16:04 -0000 (Thu, 23 Oct 2025) EndedAt: 2025-10-23 21:17:28 -0000 (Thu, 23 Oct 2025) EllapsedTime: 84.1 seconds RetCode: 0 Status: OK