Package: IsoformSwitchAnalyzeR Version: 2.9.1 Command: /home/biocbuild/R/R/bin/R CMD build --keep-empty-dirs --no-resave-data IsoformSwitchAnalyzeR StartedAt: 2025-10-21 00:42:34 -0000 (Tue, 21 Oct 2025) EndedAt: 2025-10-21 00:47:53 -0000 (Tue, 21 Oct 2025) EllapsedTime: 319.1 seconds RetCode: 0 Status: OK PackageFile: IsoformSwitchAnalyzeR_2.9.1.tar.gz PackageFileSize: 4.81 MiB