Package: IsoformSwitchAnalyzeR Version: 2.9.1 Command: /home/biocbuild/bbs-3.22-bioc/R/bin/R CMD check --install=check:IsoformSwitchAnalyzeR.install-out.txt --library=/home/biocbuild/bbs-3.22-bioc/R/site-library --timings IsoformSwitchAnalyzeR_2.9.1.tar.gz StartedAt: 2025-10-28 00:50:20 -0400 (Tue, 28 Oct 2025) EndedAt: 2025-10-28 01:02:58 -0400 (Tue, 28 Oct 2025) EllapsedTime: 757.9 seconds RetCode: 0 Status: OK CheckDir: IsoformSwitchAnalyzeR.Rcheck Warnings: 0