Package: IsoformSwitchAnalyzeR Version: 2.9.1 Command: /Library/Frameworks/R.framework/Resources/bin/R CMD INSTALL IsoformSwitchAnalyzeR StartedAt: 2025-10-24 15:49:08 -0400 (Fri, 24 Oct 2025) EndedAt: 2025-10-24 15:50:37 -0400 (Fri, 24 Oct 2025) EllapsedTime: 89.0 seconds RetCode: 0 Status: OK