Package: IsoformSwitchAnalyzeR Version: 2.9.1 Command: /Library/Frameworks/R.framework/Resources/bin/R CMD build --keep-empty-dirs --no-resave-data IsoformSwitchAnalyzeR StartedAt: 2025-10-24 17:34:01 -0400 (Fri, 24 Oct 2025) EndedAt: 2025-10-24 17:38:03 -0400 (Fri, 24 Oct 2025) EllapsedTime: 242.4 seconds RetCode: 0 Status: OK PackageFile: IsoformSwitchAnalyzeR_2.9.1.tar.gz PackageFileSize: 6.591 MiB