Package: IsoformSwitchAnalyzeR Version: 2.9.1 Command: rm -rf IsoformSwitchAnalyzeR.buildbin-libdir && mkdir IsoformSwitchAnalyzeR.buildbin-libdir && /Users/biocbuild/BBS/utils/build-universal.sh IsoformSwitchAnalyzeR_2.9.1.tar.gz /Library/Frameworks/R.framework/Resources/bin/R IsoformSwitchAnalyzeR.buildbin-libdir StartedAt: 2025-10-25 01:46:24 -0400 (Sat, 25 Oct 2025) EndedAt: 2025-10-25 01:48:00 -0400 (Sat, 25 Oct 2025) EllapsedTime: 96.1 seconds RetCode: 0 Status: OK PackageFile: IsoformSwitchAnalyzeR_2.9.1.tgz PackageFileSize: 7.392 MiB