Package: IsoCorrectoRGUI Version: 1.25.0 Command: /home/biocbuild/R/R/bin/R CMD INSTALL IsoCorrectoRGUI StartedAt: 2025-10-23 20:26:01 -0000 (Thu, 23 Oct 2025) EndedAt: 2025-10-23 20:26:23 -0000 (Thu, 23 Oct 2025) EllapsedTime: 21.7 seconds RetCode: 0 Status: OK