Package: IsoCorrectoRGUI Version: 1.25.0 Command: /Library/Frameworks/R.framework/Resources/bin/R CMD INSTALL IsoCorrectoRGUI StartedAt: 2025-10-27 15:09:17 -0400 (Mon, 27 Oct 2025) EndedAt: 2025-10-27 15:09:49 -0400 (Mon, 27 Oct 2025) EllapsedTime: 32.0 seconds RetCode: 0 Status: OK