Package: IsoCorrectoRGUI Version: 1.25.0 Command: rm -rf IsoCorrectoRGUI.buildbin-libdir && mkdir IsoCorrectoRGUI.buildbin-libdir && /Users/biocbuild/BBS/utils/build-universal.sh IsoCorrectoRGUI_1.25.0.tar.gz /Library/Frameworks/R.framework/Resources/bin/R IsoCorrectoRGUI.buildbin-libdir StartedAt: 2025-10-25 01:46:23 -0400 (Sat, 25 Oct 2025) EndedAt: 2025-10-25 01:46:34 -0400 (Sat, 25 Oct 2025) EllapsedTime: 11.2 seconds RetCode: 0 Status: OK PackageFile: IsoCorrectoRGUI_1.25.0.tgz PackageFileSize: 455.3 KiB