Package: IsoCorrectoRGUI Version: 1.25.0 Command: /Library/Frameworks/R.framework/Resources/bin/R CMD INSTALL IsoCorrectoRGUI StartedAt: 2025-10-26 15:05:01 -0400 (Sun, 26 Oct 2025) EndedAt: 2025-10-26 15:05:04 -0400 (Sun, 26 Oct 2025) EllapsedTime: 2.9 seconds RetCode: 0 Status: OK