Package: IsoCorrectoRGUI Version: 1.25.0 Command: /Library/Frameworks/R.framework/Resources/bin/R CMD build --keep-empty-dirs --no-resave-data IsoCorrectoRGUI StartedAt: 2025-10-26 16:58:19 -0400 (Sun, 26 Oct 2025) EndedAt: 2025-10-26 16:58:23 -0400 (Sun, 26 Oct 2025) EllapsedTime: 4.0 seconds RetCode: 0 Status: OK PackageFile: IsoCorrectoRGUI_1.25.0.tar.gz PackageFileSize: 439.3 KiB