Package: IsoCorrectoRGUI Version: 1.25.0 Command: rm -rf IsoCorrectoRGUI.buildbin-libdir && mkdir IsoCorrectoRGUI.buildbin-libdir && /Users/biocbuild/BBS/utils/build-universal.sh IsoCorrectoRGUI_1.25.0.tar.gz /Library/Frameworks/R.framework/Resources/bin/R IsoCorrectoRGUI.buildbin-libdir StartedAt: 2025-10-26 22:39:18 -0400 (Sun, 26 Oct 2025) EndedAt: 2025-10-26 22:39:21 -0400 (Sun, 26 Oct 2025) EllapsedTime: 3.1 seconds RetCode: 0 Status: OK PackageFile: IsoCorrectoRGUI_1.25.0.tgz PackageFileSize: 455.9 KiB