Package: IsoCorrectoRGUI Version: 1.25.0 Maintainer: Christian Kohler MaintainerEmail: christian.kohler at ur.de git_url: https://git.bioconductor.org/packages/IsoCorrectoRGUI git_branch: devel git_last_commit: 5fc83c9 git_last_commit_date: 2025-04-15 11:39:33 -0400 (Tue, 15 Apr 2025)