Package: IsoCorrectoR Version: 1.27.0 Command: /home/biocbuild/bbs-3.22-bioc/R/bin/R CMD build --keep-empty-dirs --no-resave-data --md5 IsoCorrectoR StartedAt: 2025-10-27 18:18:47 -0400 (Mon, 27 Oct 2025) EndedAt: 2025-10-27 18:18:57 -0400 (Mon, 27 Oct 2025) EllapsedTime: 10.0 seconds RetCode: 0 Status: OK PackageFile: IsoCorrectoR_1.27.0.tar.gz PackageFileSize: 1.684 MiB