Package: IsoCorrectoR Version: 1.27.0 Command: /Library/Frameworks/R.framework/Resources/bin/R CMD INSTALL IsoCorrectoR StartedAt: 2025-10-27 15:04:45 -0400 (Mon, 27 Oct 2025) EndedAt: 2025-10-27 15:04:48 -0400 (Mon, 27 Oct 2025) EllapsedTime: 2.4 seconds RetCode: 0 Status: OK