Package: IsoCorrectoR Version: 1.27.0 Command: /Library/Frameworks/R.framework/Resources/bin/R CMD build --keep-empty-dirs --no-resave-data IsoCorrectoR StartedAt: 2025-10-26 16:58:14 -0400 (Sun, 26 Oct 2025) EndedAt: 2025-10-26 16:58:19 -0400 (Sun, 26 Oct 2025) EllapsedTime: 5.1 seconds RetCode: 0 Status: OK PackageFile: IsoCorrectoR_1.27.0.tar.gz PackageFileSize: 1.663 MiB