Package: IsoBayes Version: 1.7.1 Command: /home/biocbuild/bbs-3.22-bioc/R/bin/R CMD INSTALL IsoBayes StartedAt: 2025-10-28 15:23:51 -0400 (Tue, 28 Oct 2025) EndedAt: 2025-10-28 15:24:38 -0400 (Tue, 28 Oct 2025) EllapsedTime: 47.5 seconds RetCode: 0 Status: OK