Package: IsoBayes Version: 1.7.1 Command: /home/biocbuild/bbs-3.22-bioc/R/bin/R CMD build --keep-empty-dirs --no-resave-data --md5 IsoBayes StartedAt: 2025-10-28 18:17:23 -0400 (Tue, 28 Oct 2025) EndedAt: 2025-10-28 18:19:16 -0400 (Tue, 28 Oct 2025) EllapsedTime: 113.1 seconds RetCode: 0 Status: OK PackageFile: IsoBayes_1.7.1.tar.gz PackageFileSize: 1.797 MiB