Package: IntramiRExploreR Version: 1.31.0 Command: /home/biocbuild/R/R/bin/R CMD INSTALL IntramiRExploreR StartedAt: 2025-10-23 20:29:28 -0000 (Thu, 23 Oct 2025) EndedAt: 2025-10-23 20:29:52 -0000 (Thu, 23 Oct 2025) EllapsedTime: 23.8 seconds RetCode: 0 Status: OK