Package: IntramiRExploreR Version: 1.31.0 Command: /home/biocbuild/R/R/bin/R CMD build --keep-empty-dirs --no-resave-data IntramiRExploreR StartedAt: 2025-10-21 00:39:28 -0000 (Tue, 21 Oct 2025) EndedAt: 2025-10-21 00:39:54 -0000 (Tue, 21 Oct 2025) EllapsedTime: 26.0 seconds RetCode: 0 Status: OK PackageFile: IntramiRExploreR_1.31.0.tar.gz PackageFileSize: 8.902 MiB