Package: IntramiRExploreR Version: 1.31.0 Command: /home/biocbuild/bbs-3.22-bioc/R/bin/R CMD INSTALL IntramiRExploreR StartedAt: 2025-10-24 15:21:42 -0400 (Fri, 24 Oct 2025) EndedAt: 2025-10-24 15:21:58 -0400 (Fri, 24 Oct 2025) EllapsedTime: 16.4 seconds RetCode: 0 Status: OK