Package: IntramiRExploreR Version: 1.31.0 Command: /home/biocbuild/bbs-3.22-bioc/R/bin/R CMD check --install=check:IntramiRExploreR.install-out.txt --library=/home/biocbuild/bbs-3.22-bioc/R/site-library --timings IntramiRExploreR_1.31.0.tar.gz StartedAt: 2025-10-25 00:46:54 -0400 (Sat, 25 Oct 2025) EndedAt: 2025-10-25 00:48:08 -0400 (Sat, 25 Oct 2025) EllapsedTime: 74.0 seconds RetCode: 0 Status: WARNINGS CheckDir: IntramiRExploreR.Rcheck Warnings: 2