Package: IntramiRExploreR Version: 1.31.0 Command: /Library/Frameworks/R.framework/Resources/bin/R CMD build --keep-empty-dirs --no-resave-data IntramiRExploreR StartedAt: 2025-10-27 17:23:13 -0400 (Mon, 27 Oct 2025) EndedAt: 2025-10-27 17:23:37 -0400 (Mon, 27 Oct 2025) EllapsedTime: 23.9 seconds RetCode: 0 Status: OK PackageFile: IntramiRExploreR_1.31.0.tar.gz PackageFileSize: 8.901 MiB