Package: IntramiRExploreR Version: 1.31.0 Command: rm -rf IntramiRExploreR.buildbin-libdir && mkdir IntramiRExploreR.buildbin-libdir && /Users/biocbuild/BBS/utils/build-universal.sh IntramiRExploreR_1.31.0.tar.gz /Library/Frameworks/R.framework/Resources/bin/R IntramiRExploreR.buildbin-libdir StartedAt: 2025-10-25 01:45:52 -0400 (Sat, 25 Oct 2025) EndedAt: 2025-10-25 01:46:09 -0400 (Sat, 25 Oct 2025) EllapsedTime: 17.3 seconds RetCode: 0 Status: OK PackageFile: IntramiRExploreR_1.31.0.tgz PackageFileSize: 13.36 MiB