Package: InteractiveComplexHeatmap Version: 1.17.0 Command: /home/biocbuild/R/R/bin/R CMD INSTALL InteractiveComplexHeatmap StartedAt: 2025-10-23 20:33:46 -0000 (Thu, 23 Oct 2025) EndedAt: 2025-10-23 20:34:04 -0000 (Thu, 23 Oct 2025) EllapsedTime: 17.7 seconds RetCode: 0 Status: OK