Package: InteractiveComplexHeatmap Version: 1.17.0 Command: /home/biocbuild/bbs-3.22-bioc/R/bin/R CMD check --install=check:InteractiveComplexHeatmap.install-out.txt --library=/home/biocbuild/bbs-3.22-bioc/R/site-library --timings InteractiveComplexHeatmap_1.17.0.tar.gz StartedAt: 2025-10-25 00:45:56 -0400 (Sat, 25 Oct 2025) EndedAt: 2025-10-25 00:48:35 -0400 (Sat, 25 Oct 2025) EllapsedTime: 159.1 seconds RetCode: 0 Status: OK CheckDir: InteractiveComplexHeatmap.Rcheck Warnings: 0