Package: InteractiveComplexHeatmap Version: 1.17.0 Command: /Library/Frameworks/R.framework/Resources/bin/R CMD INSTALL InteractiveComplexHeatmap StartedAt: 2025-10-24 15:24:41 -0400 (Fri, 24 Oct 2025) EndedAt: 2025-10-24 15:25:01 -0400 (Fri, 24 Oct 2025) EllapsedTime: 20.0 seconds RetCode: 0 Status: OK