Package: InteractiveComplexHeatmap Version: 1.17.0 Command: /Library/Frameworks/R.framework/Resources/bin/R CMD build --keep-empty-dirs --no-resave-data InteractiveComplexHeatmap StartedAt: 2025-10-24 17:31:24 -0400 (Fri, 24 Oct 2025) EndedAt: 2025-10-24 17:32:22 -0400 (Fri, 24 Oct 2025) EllapsedTime: 58.2 seconds RetCode: 0 Status: OK PackageFile: InteractiveComplexHeatmap_1.17.0.tar.gz PackageFileSize: 968.6 KiB