Package: InteractionSet Version: 1.37.1 Command: /home/biocbuild/bbs-3.22-bioc/R/bin/R CMD INSTALL InteractionSet StartedAt: 2025-10-24 15:33:18 -0400 (Fri, 24 Oct 2025) EndedAt: 2025-10-24 15:34:01 -0400 (Fri, 24 Oct 2025) EllapsedTime: 43.2 seconds RetCode: 0 Status: OK