Package: InteractionSet Version: 1.37.1 Command: /home/biocbuild/bbs-3.22-bioc/R/bin/R CMD check --install=check:InteractionSet.install-out.txt --library=/home/biocbuild/bbs-3.22-bioc/R/site-library --timings InteractionSet_1.37.1.tar.gz StartedAt: 2025-10-25 00:45:45 -0400 (Sat, 25 Oct 2025) EndedAt: 2025-10-25 00:50:27 -0400 (Sat, 25 Oct 2025) EllapsedTime: 282.2 seconds RetCode: 0 Status: OK CheckDir: InteractionSet.Rcheck Warnings: 0