Package: InteractionSet Version: 1.37.1 Command: /home/biocbuild/bbs-3.22-bioc/R/bin/R CMD build --keep-empty-dirs --no-resave-data --md5 InteractionSet StartedAt: 2025-10-24 18:25:01 -0400 (Fri, 24 Oct 2025) EndedAt: 2025-10-24 18:25:58 -0400 (Fri, 24 Oct 2025) EllapsedTime: 57.1 seconds RetCode: 0 Status: OK PackageFile: InteractionSet_1.37.1.tar.gz PackageFileSize: 394.1 KiB