Package: InteractionSet Version: 1.37.1 Command: /Library/Frameworks/R.framework/Resources/bin/R CMD INSTALL InteractionSet StartedAt: 2025-10-24 15:30:58 -0400 (Fri, 24 Oct 2025) EndedAt: 2025-10-24 15:31:53 -0400 (Fri, 24 Oct 2025) EllapsedTime: 55.0 seconds RetCode: 0 Status: OK