Package: InteractionSet Version: 1.37.1 Command: /Library/Frameworks/R.framework/Resources/bin/R CMD build --keep-empty-dirs --no-resave-data InteractionSet StartedAt: 2025-10-24 17:31:20 -0400 (Fri, 24 Oct 2025) EndedAt: 2025-10-24 17:32:33 -0400 (Fri, 24 Oct 2025) EllapsedTime: 73.0 seconds RetCode: 0 Status: OK PackageFile: InteractionSet_1.37.1.tar.gz PackageFileSize: 391.4 KiB