Package: InteractionSet Version: 1.37.1 Command: rm -rf InteractionSet.buildbin-libdir && mkdir InteractionSet.buildbin-libdir && /Users/biocbuild/BBS/utils/build-universal.sh InteractionSet_1.37.1.tar.gz /Library/Frameworks/R.framework/Resources/bin/R InteractionSet.buildbin-libdir StartedAt: 2025-10-25 01:45:48 -0400 (Sat, 25 Oct 2025) EndedAt: 2025-10-25 01:46:50 -0400 (Sat, 25 Oct 2025) EllapsedTime: 62.0 seconds RetCode: 0 Status: OK PackageFile: InteractionSet_1.37.1.tgz PackageFileSize: 1.55 MiB