Package: InterCellar Version: 2.16.0 Command: /Library/Frameworks/R.framework/Resources/bin/R CMD INSTALL InterCellar StartedAt: 2025-11-03 15:28:52 -0500 (Mon, 03 Nov 2025) EndedAt: 2025-11-03 15:29:29 -0500 (Mon, 03 Nov 2025) EllapsedTime: 37.5 seconds RetCode: 0 Status: OK