Package: InterCellar Version: 2.16.0 Command: rm -rf InterCellar.buildbin-libdir && mkdir InterCellar.buildbin-libdir && /Users/biocbuild/BBS/utils/build-universal.sh InterCellar_2.16.0.tar.gz /Library/Frameworks/R.framework/Resources/bin/R InterCellar.buildbin-libdir StartedAt: 2025-11-04 01:45:53 -0500 (Tue, 04 Nov 2025) EndedAt: 2025-11-04 01:46:35 -0500 (Tue, 04 Nov 2025) EllapsedTime: 41.4 seconds RetCode: 0 Status: OK PackageFile: InterCellar_2.16.0.tgz PackageFileSize: 3.163 MiB