Package: InterCellar Version: 2.15.0 Command: /Library/Frameworks/R.framework/Resources/bin/R CMD INSTALL InterCellar StartedAt: 2025-10-27 15:09:08 -0400 (Mon, 27 Oct 2025) EndedAt: 2025-10-27 15:09:22 -0400 (Mon, 27 Oct 2025) EllapsedTime: 13.3 seconds RetCode: 0 Status: OK