Package: InterCellar Version: 2.15.0 Command: /Library/Frameworks/R.framework/Resources/bin/R CMD build --keep-empty-dirs --no-resave-data InterCellar StartedAt: 2025-10-26 16:56:27 -0400 (Sun, 26 Oct 2025) EndedAt: 2025-10-26 16:56:41 -0400 (Sun, 26 Oct 2025) EllapsedTime: 14.2 seconds RetCode: 0 Status: OK PackageFile: InterCellar_2.15.0.tar.gz PackageFileSize: 4.016 MiB