Package: InterCellar Version: 2.16.0 Maintainer: Marta Interlandi MaintainerEmail: marta.interlandi01 at gmail.com git_url: https://git.bioconductor.org/packages/InterCellar git_branch: RELEASE_3_22 git_last_commit: 7306a93 git_last_commit_date: 2025-10-29 11:07:02 -0500 (Wed, 29 Oct 2025)