Package: IntEREst Version: 1.33.0 Command: /home/biocbuild/bbs-3.22-bioc/R/bin/R CMD INSTALL IntEREst StartedAt: 2025-10-24 16:08:38 -0400 (Fri, 24 Oct 2025) EndedAt: 2025-10-24 16:09:29 -0400 (Fri, 24 Oct 2025) EllapsedTime: 51.1 seconds RetCode: 0 Status: OK