Package: IntEREst Version: 1.33.0 Command: /home/biocbuild/bbs-3.22-bioc/R/bin/R CMD check --install=check:IntEREst.install-out.txt --library=/home/biocbuild/bbs-3.22-bioc/R/site-library --timings IntEREst_1.33.0.tar.gz StartedAt: 2025-10-25 00:46:29 -0400 (Sat, 25 Oct 2025) EndedAt: 2025-10-25 00:53:42 -0400 (Sat, 25 Oct 2025) EllapsedTime: 433.4 seconds RetCode: 0 Status: OK CheckDir: IntEREst.Rcheck Warnings: 0