Package: IntEREst Version: 1.33.0 Command: /Library/Frameworks/R.framework/Resources/bin/R CMD INSTALL IntEREst StartedAt: 2025-10-24 15:57:48 -0400 (Fri, 24 Oct 2025) EndedAt: 2025-10-24 15:59:00 -0400 (Fri, 24 Oct 2025) EllapsedTime: 72.2 seconds RetCode: 0 Status: OK