Package: IntEREst Version: 1.33.0 Command: /Library/Frameworks/R.framework/Resources/bin/R CMD build --keep-empty-dirs --no-resave-data IntEREst StartedAt: 2025-10-24 17:31:37 -0400 (Fri, 24 Oct 2025) EndedAt: 2025-10-24 17:33:52 -0400 (Fri, 24 Oct 2025) EllapsedTime: 134.6 seconds RetCode: 0 Status: OK PackageFile: IntEREst_1.33.0.tar.gz PackageFileSize: 1.437 MiB