Package: InPAS Version: 2.17.1 Command: /Library/Frameworks/R.framework/Resources/bin/R CMD INSTALL InPAS StartedAt: 2025-10-24 15:48:11 -0400 (Fri, 24 Oct 2025) EndedAt: 2025-10-24 15:49:17 -0400 (Fri, 24 Oct 2025) EllapsedTime: 65.4 seconds RetCode: 0 Status: OK